BEGIN:VCALENDAR
VERSION:2.0
PRODID:-//wp-events-plugin.com//7.2.3.1//EN
TZID:America/Denver
X-WR-TIMEZONE:America/Denver
BEGIN:VEVENT
UID:84-19331@economics.colostate.edu
DTSTART;TZID=America/Denver:20260207T100000
DTEND;TZID=America/Denver:20260207T113000
DTSTAMP:20260113T185907Z
URL:https://economics.colostate.edu/events/choose-csu-event/
SUMMARY:Choose CSU Event
DESCRIPTION:\n\n\n\nWhen: These events will be held February 7\, 2026 and M
 arch 28\, 2026 for students admitted for Summer or Fall 2026. Registration
  is now open!\n&nbsp\;\n\n\n\n\n\n\n\n\n\nWho it's for: Students who have 
 been admitted to Colorado State University and their guests\n&nbsp\;\n\n\n
 \n\n\n\n\n\n\nWhere it is: This event is held at CSU's main campus in For
 t Collins at Moby Arena and Lory Student Center.\n\n\n\n\n\n\n\n\n\n\nWhat
  it is: You made countless edits to your application. You waited patientl
 y to hear a decision. And\, finally\, you received an email and read two s
 imple words: "You're In."\n&nbsp\;\n\n\nSee the official Choose CSU page f
 or more details: Choose CSU | Admissions | Colorado State University\n\n\n
 \n
END:VEVENT
BEGIN:VTIMEZONE
TZID:America/Denver
X-LIC-LOCATION:America/Denver
BEGIN:STANDARD
DTSTART:20251102T010000
TZOFFSETFROM:-0600
TZOFFSETTO:-0700
TZNAME:MST
END:STANDARD
END:VTIMEZONE
END:VCALENDAR