BEGIN:VCALENDAR
VERSION:2.0
PRODID:-//wp-events-plugin.com//7.2.3.1//EN
TZID:America/Denver
X-WR-TIMEZONE:America/Denver
BEGIN:VEVENT
UID:84-17307@economics.colostate.edu
DTSTART;TZID=America/Denver:20221007T120000
DTEND;TZID=America/Denver:20221007T130000
DTSTAMP:20220929T202932Z
URL:https://economics.colostate.edu/events/aea-summer-training-program-inf
 ormation-session/
SUMMARY:AEA Summer Training Program Information Session
DESCRIPTION:Featuring Rhonda Vonshay Sharpe\, Ph.D.\, President of the Wome
 n's Institute for Science\, Equity\, and Race (WISER)\nLunch will be provi
 ded\; please register here.\n\nABOUT THE AEA SUMMER PROGRAM\n\nSince 1974\
 , the American Economics Association (AEA) Summer Training Program and Sch
 olarship Program have increased diversity in the field of economics by men
 toring and preparing talented undergraduates for doctoral programs and car
 eers in economics. The next AEA summer program will be held at Howard Univ
 ersity in Washington\, D.C. from May 25 – July 25\, 2023. The program is
  open to all qualified applicants with preference given to those who – b
 y their background\, life experience\, and scholarship – show they will 
 bring greater diversity to the field of economics.\n\n
ATTACH;FMTTYPE=image/jpeg:https://economics.colostate.edu/wp-content/uploa
 ds/sites/84/2022/09/2022-Howard-Summer-Program-1-2.png
CATEGORIES:College of Liberal Arts Featured Events
LOCATION:Clark C307\, CSU Clark Building\, Fort Collins\, United States
GEO:40.5720734;-105.08310949999998
X-APPLE-STRUCTURED-LOCATION;VALUE=URI;X-ADDRESS=CSU Clark Building\, Fort C
 ollins\, United States;X-APPLE-RADIUS=100;X-TITLE=Clark C307:geo:40.572073
 4,-105.08310949999998
END:VEVENT
BEGIN:VTIMEZONE
TZID:America/Denver
X-LIC-LOCATION:America/Denver
BEGIN:DAYLIGHT
DTSTART:20220313T030000
TZOFFSETFROM:-0700
TZOFFSETTO:-0600
TZNAME:MDT
END:DAYLIGHT
END:VTIMEZONE
END:VCALENDAR